
BEGIN:VCALENDAR
VERSION:2.0
PRODID:-//VISIT ACQUI TERME - ECPv5.12.3//NONSGML v1.0//EN
CALSCALE:GREGORIAN
METHOD:PUBLISH
X-WR-CALNAME:VISIT ACQUI TERME
X-ORIGINAL-URL:https://turismo.comuneacqui.it
X-WR-CALDESC:Eventi per VISIT ACQUI TERME
BEGIN:VTIMEZONE
TZID:UTC
BEGIN:STANDARD
TZOFFSETFROM:+0000
TZOFFSETTO:+0000
TZNAME:UTC
DTSTART:20240101T000000
END:STANDARD
END:VTIMEZONE
BEGIN:VEVENT
DTSTART;TZID=UTC:20241112T170000
DTEND;TZID=UTC:20241112T190000
DTSTAMP:20260423T105922
CREATED:20241108T145922Z
LAST-MODIFIED:20241108T154211Z
UID:53447-1731430800-1731438000@turismo.comuneacqui.it
SUMMARY:FINISSAGE MOSTRA CON EVENTO CULTURALE
DESCRIPTION:Vino e comunicazione\, un argomento costantemente affrontato da produttori e consorzi di tutela per promuovere la produzione vinicola del Piemonte. Un tema delicato che nell’ultimo secolo ha attraversato epoche e generazioni diverse\, caratterizzate da varie espressioni di promozione: dal manifesto\, al web passando attraverso la suggestione del carosello e dello spot televisivo. Se ne parlerà ad Acqui Terme al Castello dei paleologi\, martedì 12 alle 17 in occasione del finissage della mostra del Consorzio dell’Asti “90 anni di bollicine”.  \nOspiti Luisa Fassino\, autrice del volume “Manuale di marketing digitale del vino”\, il gastronomo Beppe Orsini\, Stefano Ricagno presidente del Consorzio dell’Asti docg\, l’oste Eugenio Nani titolare del ristorante “Bö Russ” di Acqui Terme moderati da Pier Ottavio Daniele\, autore de La Stampa e Slow food editore. \n  \n\n\n\n\n\n\n\n\nQuesto contenuto è disponibile in:
URL:https://turismo.comuneacqui.it/event/finissage-mostra-con-evento-culturale/
LOCATION:Castello dei Paleologi\, via Morelli
CATEGORIES:Arte e Cultura
ATTACH;FMTTYPE=image/jpeg:https://turismo.comuneacqui.it/wp-content/uploads/2024/11/IMG-20241107-WA0003.jpg
GEO:36,0812751;-114,973417
X-APPLE-STRUCTURED-LOCATION;VALUE=URI;X-ADDRESS=Castello dei Paleologi via Morelli;X-APPLE-RADIUS=500;X-TITLE=via Morelli:geo:-114,973417,36,0812751
END:VEVENT
END:VCALENDAR