
BEGIN:VCALENDAR
VERSION:2.0
PRODID:-//VISIT ACQUI TERME - ECPv5.12.3//NONSGML v1.0//EN
CALSCALE:GREGORIAN
METHOD:PUBLISH
X-WR-CALNAME:VISIT ACQUI TERME
X-ORIGINAL-URL:https://turismo.comuneacqui.it/?lang=en
X-WR-CALDESC:Events for VISIT ACQUI TERME
BEGIN:VTIMEZONE
TZID:UTC
BEGIN:STANDARD
TZOFFSETFROM:+0000
TZOFFSETTO:+0000
TZNAME:UTC
DTSTART:20180101T000000
END:STANDARD
END:VTIMEZONE
BEGIN:VEVENT
DTSTART;TZID=UTC:20180227T210000
DTEND;TZID=UTC:20180227T210000
DTSTAMP:20260424T120834
CREATED:20180131T082927Z
LAST-MODIFIED:20180131T082927Z
UID:7996-1519765200-1519765200@turismo.comuneacqui.it
SUMMARY:FINCHE’ GIUDICE NON CI SEPARI
DESCRIPTION:Per la Stagione Teatrale AcquiTeatro:  \nFINCHE’ GIUDICE NON CI SEPARI di A. e T. Fornari\, A. Maia\, V. Sinopoli regia di Augusto Fornari \nCon Simone Montedoro\, Luca Angeletti\, Augusto Fornari\, Toni Fornari\, Laura Ruocco \nCinema Teatro Ariston – ore 21 \nInfo e prevendita biglietti: Cinema Teatro Ariston\, Piazza Matteotti. Tel. 0144.58067  www.aristonacqui.it \nQuesto contenuto è disponibile in:
URL:https://turismo.comuneacqui.it/event/finche-giudice-non-ci-separi/?lang=en
LOCATION:Cinema Teatro Ariston\, Piazza Giacomo Matteotti\, Acqui Terme\, Alessandria\, 15011\, Italy
CATEGORIES:Teatro
ATTACH;FMTTYPE=image/jpeg:https://turismo.comuneacqui.it/wp-content/uploads/2019/06/no-foto-turismo-acqui-terme.jpg
GEO:44,6735594;8,4671494
X-APPLE-STRUCTURED-LOCATION;VALUE=URI;X-ADDRESS=Cinema Teatro Ariston Piazza Giacomo Matteotti Acqui Terme Alessandria 15011 Italy;X-APPLE-RADIUS=500;X-TITLE=Piazza Giacomo Matteotti:geo:8,4671494,44,6735594
END:VEVENT
END:VCALENDAR