
BEGIN:VCALENDAR
VERSION:2.0
PRODID:-//VISIT ACQUI TERME - ECPv5.12.3//NONSGML v1.0//EN
CALSCALE:GREGORIAN
METHOD:PUBLISH
X-WR-CALNAME:VISIT ACQUI TERME
X-ORIGINAL-URL:https://turismo.comuneacqui.it
X-WR-CALDESC:Eventi per VISIT ACQUI TERME
BEGIN:VTIMEZONE
TZID:UTC
BEGIN:STANDARD
TZOFFSETFROM:+0000
TZOFFSETTO:+0000
TZNAME:UTC
DTSTART:20180101T000000
END:STANDARD
END:VTIMEZONE
BEGIN:VEVENT
DTSTART;TZID=UTC:20181007T130000
DTEND;TZID=UTC:20181007T200000
DTSTAMP:20260421T180627
CREATED:20181001T093455Z
LAST-MODIFIED:20181001T093455Z
UID:14192-1538917200-1538942400@turismo.comuneacqui.it
SUMMARY:FIGHT GAMES
DESCRIPTION:Combattimenti e gare di sport da ring.  \nOrganizzato da ASD High Voltage Sport 2 in collaborazione con Radio Babboleo \n \nQuesto contenuto è disponibile in:
URL:https://turismo.comuneacqui.it/event/fight-games/
LOCATION:Centro Congressi\, Viale Antiche Terme\, Acqui Terme\, Alessandria\, 15011\, Italy
CATEGORIES:Sport
ATTACH;FMTTYPE=:
GEO:44,6598225;8,4694141
X-APPLE-STRUCTURED-LOCATION;VALUE=URI;X-ADDRESS=Centro Congressi Viale Antiche Terme Acqui Terme Alessandria 15011 Italy;X-APPLE-RADIUS=500;X-TITLE=Viale Antiche Terme:geo:8,4694141,44,6598225
END:VEVENT
END:VCALENDAR