
BEGIN:VCALENDAR
VERSION:2.0
PRODID:-//VISIT ACQUI TERME - ECPv5.12.3//NONSGML v1.0//EN
CALSCALE:GREGORIAN
METHOD:PUBLISH
X-WR-CALNAME:VISIT ACQUI TERME
X-ORIGINAL-URL:https://turismo.comuneacqui.it
X-WR-CALDESC:Eventi per VISIT ACQUI TERME
BEGIN:VTIMEZONE
TZID:UTC
BEGIN:STANDARD
TZOFFSETFROM:+0000
TZOFFSETTO:+0000
TZNAME:UTC
DTSTART:20180101T000000
END:STANDARD
END:VTIMEZONE
BEGIN:VEVENT
DTSTART;TZID=UTC:20181111T170000
DTEND;TZID=UTC:20181111T193000
DTSTAMP:20260422T084039
CREATED:20181109T102330Z
LAST-MODIFIED:20181109T102330Z
UID:14661-1541955600-1541964600@turismo.comuneacqui.it
SUMMARY:FESTIVAL LUOGHI IMMAGINARI
DESCRIPTION:Concerto di musica ILARIA IAQUINTA – soprano e GIACOMO SERRA – pianoforte \nA cura dell’Associazione Luoghi Immaginari \n \nQuesto contenuto è disponibile in:
URL:https://turismo.comuneacqui.it/event/festival-luoghi-immaginari/
LOCATION:Sala Santa Maria\, Via Domenico Barone\, 3\, Acqui Terme\, Alessandria\, 15011\, Italy
CATEGORIES:Musica & Nightlife
ATTACH;FMTTYPE=:
GEO:44,6742769;8,471895
X-APPLE-STRUCTURED-LOCATION;VALUE=URI;X-ADDRESS=Sala Santa Maria Via Domenico Barone 3 Acqui Terme Alessandria 15011 Italy;X-APPLE-RADIUS=500;X-TITLE=Via Domenico Barone\, 3:geo:8,471895,44,6742769
END:VEVENT
END:VCALENDAR