
BEGIN:VCALENDAR
VERSION:2.0
PRODID:-//VISIT ACQUI TERME - ECPv5.12.3//NONSGML v1.0//EN
CALSCALE:GREGORIAN
METHOD:PUBLISH
X-WR-CALNAME:VISIT ACQUI TERME
X-ORIGINAL-URL:https://turismo.comuneacqui.it
X-WR-CALDESC:Eventi per VISIT ACQUI TERME
BEGIN:VTIMEZONE
TZID:UTC
BEGIN:STANDARD
TZOFFSETFROM:+0000
TZOFFSETTO:+0000
TZNAME:UTC
DTSTART:20240101T000000
END:STANDARD
END:VTIMEZONE
BEGIN:VEVENT
DTSTART;TZID=UTC:20240623T210000
DTEND;TZID=UTC:20240623T230000
DTSTAMP:20260423T233723
CREATED:20240607T074236Z
LAST-MODIFIED:20240607T074238Z
UID:50691-1719176400-1719183600@turismo.comuneacqui.it
SUMMARY:FESTA DELLA MUSICA #FDM2024 – Coro GosPav
DESCRIPTION:Il Festival chiuderà i battenti domenica alle ore 21 al Teatro Romano dove si esibirà il Coro GosPav diretto dall’acquese Marina Marauda con un repertorio folk\, pop e rock.\n\nIn caso di maltempo il concerto si terrà alla sala conferenze ex Kaimano\n\n \n\n\n\n\nQuesto contenuto è disponibile in:
URL:https://turismo.comuneacqui.it/event/festa-della-musica-fdm2024-coro-gospav/
LOCATION:Teatro Romano\, Via Scatilazzi\, Acqui Terme\, Alessandria\, 15011
CATEGORIES:CONCERTO
ATTACH;FMTTYPE=image/jpeg:https://turismo.comuneacqui.it/wp-content/uploads/2024/06/2024-06-16-Festa-della-Musica-TURISMO-scaled.jpg
ORGANIZER;CN="Ufficio%20Turismo":MAILTO:turismo@comuneacqui.com
GEO:44,6753199;8,4711976
X-APPLE-STRUCTURED-LOCATION;VALUE=URI;X-ADDRESS=Teatro Romano Via Scatilazzi Acqui Terme Alessandria 15011;X-APPLE-RADIUS=500;X-TITLE=Via Scatilazzi:geo:8,4711976,44,6753199
END:VEVENT
END:VCALENDAR