
BEGIN:VCALENDAR
VERSION:2.0
PRODID:-//VISIT ACQUI TERME - ECPv5.12.3//NONSGML v1.0//EN
CALSCALE:GREGORIAN
METHOD:PUBLISH
X-WR-CALNAME:VISIT ACQUI TERME
X-ORIGINAL-URL:https://turismo.comuneacqui.it/?lang=en
X-WR-CALDESC:Events for VISIT ACQUI TERME
BEGIN:VTIMEZONE
TZID:UTC
BEGIN:STANDARD
TZOFFSETFROM:+0000
TZOFFSETTO:+0000
TZNAME:UTC
DTSTART:20250101T000000
END:STANDARD
END:VTIMEZONE
BEGIN:VEVENT
DTSTART;TZID=UTC:20251208T163000
DTEND;TZID=UTC:20251208T180000
DTSTAMP:20260421T181053
CREATED:20251204T151414Z
LAST-MODIFIED:20251204T151655Z
UID:59266-1765211400-1765216800@turismo.comuneacqui.it
SUMMARY:ESIBIZIONE E SFILATA DI S.S. NATALE
DESCRIPTION:A cura del CORPO BANDISTICO ACQUESE. Dalle ore 16.00 – sfilata itinerante per l’isola pedonale. Per tutti gli appuntamenti del Natale visitare il sito dedicato https://sites.google.com/view/nataleacquiterme \nCliccare qui per visualizzare il programma \n \n\n\n\n\n\n\n\n\nQuesto contenuto è disponibile in:
URL:https://turismo.comuneacqui.it/event/esibizione-e-sfilata-di-s-s-natale/?lang=en
LOCATION:Centro storico
CATEGORIES:CONCERTO,Natale
ATTACH;FMTTYPE=image/jpeg:https://turismo.comuneacqui.it/wp-content/uploads/2025/12/A3-MAIN-1-001.jpg
END:VEVENT
END:VCALENDAR