
BEGIN:VCALENDAR
VERSION:2.0
PRODID:-//VISIT ACQUI TERME - ECPv5.12.3//NONSGML v1.0//EN
CALSCALE:GREGORIAN
METHOD:PUBLISH
X-WR-CALNAME:VISIT ACQUI TERME
X-ORIGINAL-URL:https://turismo.comuneacqui.it
X-WR-CALDESC:Eventi per VISIT ACQUI TERME
BEGIN:VTIMEZONE
TZID:UTC
BEGIN:STANDARD
TZOFFSETFROM:+0000
TZOFFSETTO:+0000
TZNAME:UTC
DTSTART:20210101T000000
END:STANDARD
END:VTIMEZONE
BEGIN:VEVENT
DTSTART;TZID=UTC:20210619T210000
DTEND;TZID=UTC:20210619T230000
DTSTAMP:20260423T145957
CREATED:20210526T063331Z
LAST-MODIFIED:20210527T124920Z
UID:39948-1624136400-1624143600@turismo.comuneacqui.it
SUMMARY:ECHOS. I LUOGHI E LA MUSICA
DESCRIPTION:sabato 29 maggio\, nel cortile dello splendido Palatium Vetus ad Alessandria\, inizierà la XXIII edizione del Festival Internazionale Echos. I Luoghi e la Musica.\nIn compagnia di tanti musicisti straordinari\, e rispettando tutte le misure di sicurezza previste\, il festival proseguirà fino al 27 giugno toccando alcuni dei luoghi più belli e suggestivi della provincia di Alessandria. Castelli\, palazzi storici\, chiese\, abbazie\, giardini e perfino un bosco di castagni!\nACQUI TERME ospiterà il Festival sabato 19 giugno alle ore 21.30 presso il Giardino Botanico del Castello dei Paleologi. (in caso di maltempo il concerto si terrà presso la Cattedrale di N.S. Assunta)\nCi auguriamo che seguire le tappe di questa edizione possa essere un balsamo per tutti coloro che ci seguiranno; che la meraviglia della musica e la bellezza dei luoghi possano essere un modo per lasciarci alle spalle\, almeno per il breve spazio di un concerto\, tutte le paure\, le difficoltà e le sofferenze che hanno caratterizzato il nostro passato recente.\n \nL’ INGRESSO AI CONCERTI DI ECHOS E’ LIBERO CON PRENOTAZIONE OBBLIGATORIA DEL POSTO  (MISURE ANTI COVID-19).\nSi accettano le prenotazioni fino alle ore 12.00 del giorno del concerto.\nPer prenotazioni:\nemail: info@festivalechos.it\ntel.: + 39 348 7161557  (attivo dal 15 maggio)\nSi invita il pubblico a comunicare tempestivamente eventuali rinunce in modo da rendere disponibile il posto per altre persone.\nIn caso di maltempo il concerto si terrà nella Cattedrale di Acqui Terme\n \nVISITE GUIDATE E INFO:\nin occasione del concerto\, il Museo Archeologico effettuerà eccezionalmente un’apertura serale dalle 16 alle 21; durante questo orario saranno effettuate visite guidate con prenotazione obbligatoria\, a piccoli gruppi\, comprese nel biglietto d’ingresso.\n\n\n\n\n\n\n\n\nPer info e costi: www.acquimusei.it oppure www.facebook.com/Museo.Archeologico.AcquiTerme \n\n\n\n\n\n\n\n\nPer scoprire tutti i dettagli dell’edizione che sta per iniziare:\nhttps://www.festivalechos.it/\nQuesto contenuto è disponibile in:
URL:https://turismo.comuneacqui.it/event/echos-i-luoghi-e-la-musica/
LOCATION:Castello dei Paleologi\, via Morelli
CATEGORIES:Musica & Nightlife
ATTACH;FMTTYPE=image/png:https://turismo.comuneacqui.it/wp-content/uploads/2021/05/Cattura.png
GEO:36,0812751;-114,973417
X-APPLE-STRUCTURED-LOCATION;VALUE=URI;X-ADDRESS=Castello dei Paleologi via Morelli;X-APPLE-RADIUS=500;X-TITLE=via Morelli:geo:-114,973417,36,0812751
END:VEVENT
END:VCALENDAR