
BEGIN:VCALENDAR
VERSION:2.0
PRODID:-//VISIT ACQUI TERME - ECPv5.12.3//NONSGML v1.0//EN
CALSCALE:GREGORIAN
METHOD:PUBLISH
X-WR-CALNAME:VISIT ACQUI TERME
X-ORIGINAL-URL:https://turismo.comuneacqui.it/?lang=en
X-WR-CALDESC:Events for VISIT ACQUI TERME
BEGIN:VTIMEZONE
TZID:UTC
BEGIN:STANDARD
TZOFFSETFROM:+0000
TZOFFSETTO:+0000
TZNAME:UTC
DTSTART:20260101T000000
END:STANDARD
END:VTIMEZONE
BEGIN:VEVENT
DTSTART;TZID=UTC:20260524T170000
DTEND;TZID=UTC:20260524T190000
DTSTAMP:20260423T080154
CREATED:20260422T080528Z
LAST-MODIFIED:20260422T080529Z
UID:60901-1779642000-1779649200@turismo.comuneacqui.it
SUMMARY:ECHOS 2026 - XXVIII FESTIVAL INTERNAZIONALE DI MUSICA
DESCRIPTION:Il Festival ECHOS è un sorprendente viaggio musicale alla scoperta del ricco e spesso misconosciuto patrimonio storico\, artistico e paesaggistico della provincia di Alessandria. Non perdete questa opportunità\, sarà una scoperta fantastica!\n\nL’edizione 2026 giunge ad Acqui Terme con il concerto per chitarra e quartetto d’archi FRANCESCO BUZZURRO & QUARTETTO GOFFRILLER con musiche di Buzzurro\, Morricone\, Piazzolla\, Corea.\n\nIngresso libero\n\nPer info sul calendario dei concerti ECHOS 2026: info@festivalechos.it\n\n \n\n\n\n\nQuesto contenuto è disponibile in:
URL:https://turismo.comuneacqui.it/event/echos-2026-xxviii-festival-internazionale-di-musica/?lang=en
LOCATION:Castello dei Paleologi\, via Morelli\, Acqui Terme\, AL\, 15010
CATEGORIES:Concerti,Music & Nightlife
ATTACH;FMTTYPE=image/jpeg:https://turismo.comuneacqui.it/wp-content/uploads/2026/04/ECHOS-Acqui-Terme-scaled.jpg
GEO:44,6439737;8,4239894
X-APPLE-STRUCTURED-LOCATION;VALUE=URI;X-ADDRESS=Castello dei Paleologi via Morelli Acqui Terme AL 15010;X-APPLE-RADIUS=500;X-TITLE=via Morelli:geo:8,4239894,44,6439737
END:VEVENT
END:VCALENDAR