
BEGIN:VCALENDAR
VERSION:2.0
PRODID:-//VISIT ACQUI TERME - ECPv5.12.3//NONSGML v1.0//EN
CALSCALE:GREGORIAN
METHOD:PUBLISH
X-WR-CALNAME:VISIT ACQUI TERME
X-ORIGINAL-URL:https://turismo.comuneacqui.it
X-WR-CALDESC:Eventi per VISIT ACQUI TERME
BEGIN:VTIMEZONE
TZID:UTC
BEGIN:STANDARD
TZOFFSETFROM:+0000
TZOFFSETTO:+0000
TZNAME:UTC
DTSTART:20190101T000000
END:STANDARD
END:VTIMEZONE
BEGIN:VEVENT
DTSTART;TZID=UTC:20190601T211500
DTEND;TZID=UTC:20190601T233000
DTSTAMP:20260425T030331
CREATED:20190410T054737Z
LAST-MODIFIED:20190410T054737Z
UID:16053-1559423700-1559431800@turismo.comuneacqui.it
SUMMARY:ECHOS 2019 - XXI FESTIVAL INTERNAZIONALE DI MUSICA
DESCRIPTION:Gentilmente ospitati da S.E. il Vescovo\, l ‘appuntamento acquese del Festival Echos 2019 si terrà presso la Sala dei Ritratti di Palazzo Vescovile: \nALEXANDER HULSHOFF\, violoncello \nIntegrale delle Suites per violoncello di J. S. Bach concerto n. 2 \nIngresso libero fino ad esaurimento dei posti \nPrima del concerto\, alle ore 20.30\, visita guidata al Palazzo Vescovile \nSala dei ritratti del Palazzo Vescovile \n \nAlexander Hülshoff \n \n \nQuesto contenuto è disponibile in:
URL:https://turismo.comuneacqui.it/event/echos-2019-xxi-festival-internazionale-di-musica/
LOCATION:→\, Piazza Duomo\, Acqui Terme\, Alessandria\, 15011
CATEGORIES:Musica & Nightlife
ATTACH;FMTTYPE=:
GEO:44,6742002;8,4703879
X-APPLE-STRUCTURED-LOCATION;VALUE=URI;X-ADDRESS=→ Piazza Duomo Acqui Terme Alessandria 15011;X-APPLE-RADIUS=500;X-TITLE=Piazza Duomo:geo:8,4703879,44,6742002
END:VEVENT
END:VCALENDAR