
BEGIN:VCALENDAR
VERSION:2.0
PRODID:-//VISIT ACQUI TERME - ECPv5.12.3//NONSGML v1.0//EN
CALSCALE:GREGORIAN
METHOD:PUBLISH
X-WR-CALNAME:VISIT ACQUI TERME
X-ORIGINAL-URL:https://turismo.comuneacqui.it
X-WR-CALDESC:Eventi per VISIT ACQUI TERME
BEGIN:VTIMEZONE
TZID:UTC
BEGIN:STANDARD
TZOFFSETFROM:+0000
TZOFFSETTO:+0000
TZNAME:UTC
DTSTART:20230101T000000
END:STANDARD
END:VTIMEZONE
BEGIN:VEVENT
DTSTART;TZID=UTC:20230420T170000
DTEND;TZID=UTC:20230420T233000
DTSTAMP:20260421T165147
CREATED:20230413T075201Z
LAST-MODIFIED:20230413T075700Z
UID:45503-1682010000-1682033400@turismo.comuneacqui.it
SUMMARY:DIVINA TRILOGIA - Rassegna di Incontri e Degustazioni delle eccellenze enogastronomiche
DESCRIPTION:I Discepoli d’Auguste Escoffier – Piemonte e Valle D’Aosta \npresentano\nFormaggio | Carne | Vino\nDIVINA TRILOGIA \nRassegna di Incontri e Degustazioni delle eccellenze enogastronomiche dei territori di Acqui Terme (AL)\, Carrù/Clavesana/Trinità (CN)\, Cocconato (AT) con la speciale partecipazione del Dott. Michele Scognamiglio. \n Giovedì 20 Aprile 2023 \nINCONTRO: \n“Ai formaggi fate Cheese! I valori nutrizionali del formaggio” \nore 17.00 Palazzo Robellini – Piazza Levi\, 5 – Acqui Terme – ingresso libero \nrelatori: Dott. Michele Scognamiglio – Prof. Carlo Prosperi\nInterviene l’Assessore all’Agricoltura della Regione Piemonte\nmodera: Prof.ssa Samuela Mattarella \nDEGUSTAZIONE: \n“Il Roccaverano amoreggia con la Battuta e si sposa con i vini Aromatici”  \nore 20.30 Pro Loco di Ovrano – €25 – posti limitati – info e prenotazioni 338 4533421 \nAlla presenza di illustri esperti e consulenti del mondo dell’alimentazione e della cucina nazionale e internazionale l’Associazione Discepoli di Auguste Escoffier – Delegazione Piemonte e Valle d’Aosta propongono una rassegna di incontri (ad ingresso libero) volti a sottolineare la valenza delle proprietà nutritive\, della bontà delle tecniche di coltura e allevamento\, nonché della qualità e la versatilità delle eccellenze enogastronomiche dei territori piemontesi.  \nOspite d’eccezione e coordinatore dei lavori il Discepolo di Escoffier Dottor. Michele Scognamiglio\, già autore di diverse pubblicazioni scientifiche e specialista in Scienza dell’Alimentazione e Nutrizione Clinica\, Microbiologia\, Biochimica e Patologia Clinica. \nAl termine di ogni incontro sarà possibile degustare prodotti e ricette in abbinamento ai vini più rappresentativi. L’iniziativa\, in questa prima edizione\, vuole rivolgersi a livello nazionale ai professionisti del mondo della gastronomia\, dell’educazione e alla stampa di settore con l’obiettivo di attrarre ed educare al profondo valore salutare dei prodotti tipici locali piemontesi. \nQuesto contenuto è disponibile in:
URL:https://turismo.comuneacqui.it/event/divina-trilogia-rassegna-di-incontri-e-degustazioni-delle-eccellenze-enogastronomiche/
LOCATION:Palazzo Robellini\, Piazza Levi\, Acqui Terme\, 15011\, Italy
CATEGORIES:Conferenze
ATTACH;FMTTYPE=image/jpeg:https://turismo.comuneacqui.it/wp-content/uploads/2019/06/no-foto-turismo-acqui-terme.jpg
GEO:44,676318;8,4699349
X-APPLE-STRUCTURED-LOCATION;VALUE=URI;X-ADDRESS=Palazzo Robellini Piazza Levi Acqui Terme 15011 Italy;X-APPLE-RADIUS=500;X-TITLE=Piazza Levi:geo:8,4699349,44,676318
END:VEVENT
END:VCALENDAR