
BEGIN:VCALENDAR
VERSION:2.0
PRODID:-//VISIT ACQUI TERME - ECPv5.12.3//NONSGML v1.0//EN
CALSCALE:GREGORIAN
METHOD:PUBLISH
X-WR-CALNAME:VISIT ACQUI TERME
X-ORIGINAL-URL:https://turismo.comuneacqui.it/?lang=en
X-WR-CALDESC:Events for VISIT ACQUI TERME
BEGIN:VTIMEZONE
TZID:UTC
BEGIN:STANDARD
TZOFFSETFROM:+0000
TZOFFSETTO:+0000
TZNAME:UTC
DTSTART:20250101T000000
END:STANDARD
END:VTIMEZONE
BEGIN:VEVENT
DTSTART;TZID=UTC:20250510T163000
DTEND;TZID=UTC:20250525T190000
DTSTAMP:20260421T144121
CREATED:20250416T154103Z
LAST-MODIFIED:20250506T131736Z
UID:55456-1746894600-1748199600@turismo.comuneacqui.it
SUMMARY:Dal culto della Grande Madre alla donna come "L'altro dell'uomo" - Mostra di arti visive
DESCRIPTION:Mostra di Arti Visive – a cura di Gabriella Oliva    \nInaugurazione sabato 10 alle ore 16:30 \nOrario di apertura dal martedì a domenica dalle 16.00-19.00 ( chiuso lunedì) \n\n\n\n\n\n\n\n\nQuesto contenuto è disponibile in:
URL:https://turismo.comuneacqui.it/event/dal-culto-della-grande-madre-alla-donna-come-laltro-delluomo-mostra-di-arti-visive/?lang=en
LOCATION:Palazzo Chiabrera\, via Manzoni\, Acqui Terme\, Italy
CATEGORIES:Arte e Cultura,Mostre & Presentazioni Libri
ATTACH;FMTTYPE=image/jpeg:https://turismo.comuneacqui.it/wp-content/uploads/2025/04/Dal-culto-della-Grande-Madre-70x100-2-scaled.jpg
GEO:44,675619;8,4710688
X-APPLE-STRUCTURED-LOCATION;VALUE=URI;X-ADDRESS=Palazzo Chiabrera via Manzoni Acqui Terme Italy;X-APPLE-RADIUS=500;X-TITLE=via Manzoni:geo:8,4710688,44,675619
END:VEVENT
END:VCALENDAR