
BEGIN:VCALENDAR
VERSION:2.0
PRODID:-//VISIT ACQUI TERME - ECPv5.12.3//NONSGML v1.0//EN
CALSCALE:GREGORIAN
METHOD:PUBLISH
X-WR-CALNAME:VISIT ACQUI TERME
X-ORIGINAL-URL:https://turismo.comuneacqui.it
X-WR-CALDESC:Eventi per VISIT ACQUI TERME
BEGIN:VTIMEZONE
TZID:UTC
BEGIN:STANDARD
TZOFFSETFROM:+0000
TZOFFSETTO:+0000
TZNAME:UTC
DTSTART:20250101T000000
END:STANDARD
END:VTIMEZONE
BEGIN:VEVENT
DTSTART;TZID=UTC:20250921T090000
DTEND;TZID=UTC:20250921T200000
DTSTAMP:20260421T111538
CREATED:20250911T151651Z
LAST-MODIFIED:20250911T151851Z
UID:58081-1758445200-1758484800@turismo.comuneacqui.it
SUMMARY:CORTE DEI CORTI - FILM FESTIVAL
DESCRIPTION:Corte dei Corti – Rassegna short parte 2 Per ulteriori informazioni ed il programma completo visitare il sito dedicato https://www.cortedeicorti.it/ \n\n\n\n\n\n\n\n\nQuesto contenuto è disponibile in:
URL:https://turismo.comuneacqui.it/event/corte-dei-corti-film-festival-5/
LOCATION:Sala convegni ex Kaimano\, Via M. Ferraris\,5\, Acqui Terme\, Alessandria\, 15011\, Italy
CATEGORIES:Cinema e spettacolo
ATTACH;FMTTYPE=image/jpeg:https://turismo.comuneacqui.it/wp-content/uploads/2025/09/CC25-1.jpg
GEO:44,6775312;8,4668088
X-APPLE-STRUCTURED-LOCATION;VALUE=URI;X-ADDRESS=Sala convegni ex Kaimano Via M. Ferraris5 Acqui Terme Alessandria 15011 Italy;X-APPLE-RADIUS=500;X-TITLE=Via M. Ferraris\,5:geo:8,4668088,44,6775312
END:VEVENT
END:VCALENDAR