
BEGIN:VCALENDAR
VERSION:2.0
PRODID:-//VISIT ACQUI TERME - ECPv5.12.3//NONSGML v1.0//EN
CALSCALE:GREGORIAN
METHOD:PUBLISH
X-WR-CALNAME:VISIT ACQUI TERME
X-ORIGINAL-URL:https://turismo.comuneacqui.it
X-WR-CALDESC:Eventi per VISIT ACQUI TERME
BEGIN:VTIMEZONE
TZID:UTC
BEGIN:STANDARD
TZOFFSETFROM:+0000
TZOFFSETTO:+0000
TZNAME:UTC
DTSTART:20190101T000000
END:STANDARD
END:VTIMEZONE
BEGIN:VEVENT
DTSTART;TZID=UTC:20190720T190000
DTEND;TZID=UTC:20190721T010000
DTSTAMP:20260421T193819
CREATED:20190715T084551Z
LAST-MODIFIED:20190801T093034Z
UID:28807-1563649200-1563670800@turismo.comuneacqui.it
SUMMARY:CORSO BAGNI IN FESTA - Eventi 2019
DESCRIPTION:MUSICA\, CENA SOTTO LE STELLE\, ANIMAZIONE\, GIOCHI\, GONFIABILI\nSiete pronti a vivere una festa sotto le stelle? Le attività di Corso Bagni ad Acqui Terme\, vi invitano a gustare la magia e la musica delle serate e delle notti d’estate. \nEvento organizzato dai Commercianti di Corso Bagni \nCorso Bagni \n \nQuesto contenuto è disponibile in:
URL:https://turismo.comuneacqui.it/event/corso-bagni-in-festa/2019-07-20/
LOCATION:Corso Bagni\, Acqui Terme\, Alessandria\, 15011\, Italy
CATEGORIES:Musica & Nightlife
ATTACH;FMTTYPE=image/jpeg:https://turismo.comuneacqui.it/wp-content/uploads/2019/07/67212920_2420038668320152_7005338332632711168_o.jpg
GEO:44,6763846;8,4670285
END:VEVENT
END:VCALENDAR