
BEGIN:VCALENDAR
VERSION:2.0
PRODID:-//VISIT ACQUI TERME - ECPv5.12.3//NONSGML v1.0//EN
CALSCALE:GREGORIAN
METHOD:PUBLISH
X-WR-CALNAME:VISIT ACQUI TERME
X-ORIGINAL-URL:https://turismo.comuneacqui.it
X-WR-CALDESC:Eventi per VISIT ACQUI TERME
BEGIN:VTIMEZONE
TZID:Europe/Helsinki
BEGIN:DAYLIGHT
TZOFFSETFROM:+0200
TZOFFSETTO:+0300
TZNAME:EEST
DTSTART:20190331T010000
END:DAYLIGHT
BEGIN:STANDARD
TZOFFSETFROM:+0300
TZOFFSETTO:+0200
TZNAME:EET
DTSTART:20191027T010000
END:STANDARD
END:VTIMEZONE
BEGIN:VEVENT
DTSTART;TZID=Europe/Helsinki:20190707T213000
DTEND;TZID=Europe/Helsinki:20190707T233000
DTSTAMP:20260421T142547
CREATED:20190624T123602Z
LAST-MODIFIED:20190723T081823Z
UID:27228-1562535000-1562542200@turismo.comuneacqui.it
SUMMARY:CONCERTO PER SAN GUIDO
DESCRIPTION:La città di Acqui Terme\,  La Pastorale di San Guido\, Associazione Corale Santa Cecilia\, vi aspettano alla 7° edizione del Concerto per San Guido che si terrà nella splendida cornice della chiesa Cattedrale. \nQuesto contenuto è disponibile in:
URL:https://turismo.comuneacqui.it/event/concerto-per-san-guido/
LOCATION:Cattedrale N.S. Assunta
CATEGORIES:Cultura & Cinema
ATTACH;FMTTYPE=image/jpeg:https://turismo.comuneacqui.it/wp-content/uploads/2019/06/Locandina-2019.07.07.jpg
END:VEVENT
END:VCALENDAR