
BEGIN:VCALENDAR
VERSION:2.0
PRODID:-//VISIT ACQUI TERME - ECPv5.12.3//NONSGML v1.0//EN
CALSCALE:GREGORIAN
METHOD:PUBLISH
X-WR-CALNAME:VISIT ACQUI TERME
X-ORIGINAL-URL:https://turismo.comuneacqui.it
X-WR-CALDESC:Eventi per VISIT ACQUI TERME
BEGIN:VTIMEZONE
TZID:UTC
BEGIN:STANDARD
TZOFFSETFROM:+0000
TZOFFSETTO:+0000
TZNAME:UTC
DTSTART:20220101T000000
END:STANDARD
END:VTIMEZONE
BEGIN:VEVENT
DTSTART;TZID=UTC:20220702T213000
DTEND;TZID=UTC:20220702T233000
DTSTAMP:20260424T173052
CREATED:20220624T082759Z
LAST-MODIFIED:20220624T082759Z
UID:43231-1656797400-1656804600@turismo.comuneacqui.it
SUMMARY:CONCERTO PER SAN GUIDO
DESCRIPTION:Concerto della CORALE DI SANTA CECILIA.  \nIngresso libero \nQuesto contenuto è disponibile in:
URL:https://turismo.comuneacqui.it/event/concerto-per-san-guido-2/
LOCATION:Cattedrale N.S. Assunta
CATEGORIES:Musica classica
ATTACH;FMTTYPE=image/jpeg:https://turismo.comuneacqui.it/wp-content/uploads/2022/06/Concerto-Duomo_02.07.2022-scaled.jpg
END:VEVENT
END:VCALENDAR