
BEGIN:VCALENDAR
VERSION:2.0
PRODID:-//VISIT ACQUI TERME - ECPv5.12.3//NONSGML v1.0//EN
CALSCALE:GREGORIAN
METHOD:PUBLISH
X-WR-CALNAME:VISIT ACQUI TERME
X-ORIGINAL-URL:https://turismo.comuneacqui.it/?lang=en
X-WR-CALDESC:Events for VISIT ACQUI TERME
BEGIN:VTIMEZONE
TZID:UTC
BEGIN:STANDARD
TZOFFSETFROM:+0000
TZOFFSETTO:+0000
TZNAME:UTC
DTSTART:20190101T000000
END:STANDARD
END:VTIMEZONE
BEGIN:VEVENT
DTSTART;TZID=UTC:20190413T210000
DTEND;TZID=UTC:20190413T230000
DTSTAMP:20260421T141452
CREATED:20190401T063605Z
LAST-MODIFIED:20190401T063605Z
UID:15853-1555189200-1555196400@turismo.comuneacqui.it
SUMMARY:CONCERTO DI PASQUA della CORALE CITTA' DI ACQUI TERME
DESCRIPTION:Questo contenuto è disponibile in:
URL:https://turismo.comuneacqui.it/event/concerto-di-primavera-della-corale-citta-di-acqui-terme-2/?lang=en
LOCATION:Chiesa Sant’Antonio\, Acqui Terme
CATEGORIES:Music & Nightlife
ATTACH;FMTTYPE=:
GEO:44,6763846;8,4670285
END:VEVENT
END:VCALENDAR