
BEGIN:VCALENDAR
VERSION:2.0
PRODID:-//VISIT ACQUI TERME - ECPv5.12.3//NONSGML v1.0//EN
CALSCALE:GREGORIAN
METHOD:PUBLISH
X-WR-CALNAME:VISIT ACQUI TERME
X-ORIGINAL-URL:https://turismo.comuneacqui.it
X-WR-CALDESC:Eventi per VISIT ACQUI TERME
BEGIN:VTIMEZONE
TZID:UTC
BEGIN:STANDARD
TZOFFSETFROM:+0000
TZOFFSETTO:+0000
TZNAME:UTC
DTSTART:20180101T000000
END:STANDARD
END:VTIMEZONE
BEGIN:VEVENT
DTSTART;TZID=UTC:20180414T161500
DTEND;TZID=UTC:20180414T180000
DTSTAMP:20260421T110335
CREATED:20180316T102307Z
LAST-MODIFIED:20180316T102307Z
UID:10102-1523722500-1523728800@turismo.comuneacqui.it
SUMMARY:CONCERTO DI PRIMAVERA del CORPO BANDISTICO ACQUESE
DESCRIPTION:Tradizionale concerto della banda di Acqui Terme nel “Salotto della Città” \n  \nQuesto contenuto è disponibile in:
URL:https://turismo.comuneacqui.it/event/concerto-di-primavera-del-corpo-bandistico-acquese/
LOCATION:Piazza Bollente\, Piazza della Bollente\, Acqui Terme\, Alessandria\, 15011
CATEGORIES:Conferenze,Mostre & Presentazioni Libri,Musica & Nightlife
ATTACH;FMTTYPE=:
END:VEVENT
END:VCALENDAR