
BEGIN:VCALENDAR
VERSION:2.0
PRODID:-//VISIT ACQUI TERME - ECPv5.12.3//NONSGML v1.0//EN
CALSCALE:GREGORIAN
METHOD:PUBLISH
X-WR-CALNAME:VISIT ACQUI TERME
X-ORIGINAL-URL:https://turismo.comuneacqui.it
X-WR-CALDESC:Eventi per VISIT ACQUI TERME
BEGIN:VTIMEZONE
TZID:Europe/Paris
BEGIN:DAYLIGHT
TZOFFSETFROM:+0100
TZOFFSETTO:+0200
TZNAME:CEST
DTSTART:20230326T010000
END:DAYLIGHT
BEGIN:STANDARD
TZOFFSETFROM:+0200
TZOFFSETTO:+0100
TZNAME:CET
DTSTART:20231029T010000
END:STANDARD
END:VTIMEZONE
BEGIN:VEVENT
DTSTART;TZID=Europe/Paris:20230708T173000
DTEND;TZID=Europe/Paris:20230723T193000
DTSTAMP:20260424T155327
CREATED:20230627T132359Z
LAST-MODIFIED:20230628T140528Z
UID:46479-1688837400-1690140600@turismo.comuneacqui.it
SUMMARY:Collettiva del Circolo Artistico "Mario Ferrari" - LA VITA A COLORI
DESCRIPTION:Inaugurazione mostra sabato 8 Luglio ore 17:30  \nPresso la sala d’arte di Palazzo Chiabrera  \norari: tutti i giorni dalle 17:30 alle 19:30\, venerdì e sabato anche dalle 21:00 alle 23:00  \nLUNEDI’ CHIUSO   \nQuesto contenuto è disponibile in:
URL:https://turismo.comuneacqui.it/event/collettiva-del-circolo-artistico-mario-ferrari-la-vita-a-colori/
LOCATION:Palazzo Chiabrera\, via Manzoni\, Acqui Terme\, Italy
ATTACH;FMTTYPE=image/jpeg:https://turismo.comuneacqui.it/wp-content/uploads/2023/06/2023-07-08-Mostra-Circolo-Ferrari-CULTURA.jpg
GEO:44,675619;8,4710688
X-APPLE-STRUCTURED-LOCATION;VALUE=URI;X-ADDRESS=Palazzo Chiabrera via Manzoni Acqui Terme Italy;X-APPLE-RADIUS=500;X-TITLE=via Manzoni:geo:8,4710688,44,675619
END:VEVENT
END:VCALENDAR