
BEGIN:VCALENDAR
VERSION:2.0
PRODID:-//VISIT ACQUI TERME - ECPv5.12.3//NONSGML v1.0//EN
CALSCALE:GREGORIAN
METHOD:PUBLISH
X-WR-CALNAME:VISIT ACQUI TERME
X-ORIGINAL-URL:https://turismo.comuneacqui.it/?lang=en
X-WR-CALDESC:Events for VISIT ACQUI TERME
BEGIN:VTIMEZONE
TZID:UTC
BEGIN:STANDARD
TZOFFSETFROM:+0000
TZOFFSETTO:+0000
TZNAME:UTC
DTSTART:20240101T000000
END:STANDARD
END:VTIMEZONE
BEGIN:VEVENT
DTSTART;TZID=UTC:20240726T193000
DTEND;TZID=UTC:20240727T010000
DTSTAMP:20260421T111253
CREATED:20240719T102828Z
LAST-MODIFIED:20240726T100718Z
UID:51599-1722022200-1722042000@turismo.comuneacqui.it
SUMMARY:COCO FESTIVAL
DESCRIPTION:Una serata all’insegna dello street food e del divertimento. Questa sera direttamente da Radio M2O Special Guest Mami Chula – hip hop\, reggaeton\, dembow\, dancehall. Organizzazione a cura di APS Acqui Eventi \n\n\n\n\n\n\n\n\nQuesto contenuto è disponibile in:
URL:https://turismo.comuneacqui.it/event/coco-festival/?lang=en
LOCATION:Archi romani – zona Bagni
CATEGORIES:Music & Nightlife
ATTACH;FMTTYPE=image/jpeg:https://turismo.comuneacqui.it/wp-content/uploads/2024/07/COCO-festival-26.jpg
END:VEVENT
END:VCALENDAR