
BEGIN:VCALENDAR
VERSION:2.0
PRODID:-//VISIT ACQUI TERME - ECPv5.12.3//NONSGML v1.0//EN
CALSCALE:GREGORIAN
METHOD:PUBLISH
X-WR-CALNAME:VISIT ACQUI TERME
X-ORIGINAL-URL:https://turismo.comuneacqui.it
X-WR-CALDESC:Eventi per VISIT ACQUI TERME
BEGIN:VTIMEZONE
TZID:UTC
BEGIN:STANDARD
TZOFFSETFROM:+0000
TZOFFSETTO:+0000
TZNAME:UTC
DTSTART:20180101T000000
END:STANDARD
END:VTIMEZONE
BEGIN:VEVENT
DTSTART;TZID=UTC:20180929T080000
DTEND;TZID=UTC:20180930T200000
DTSTAMP:20260421T153636
CREATED:20180726T081530Z
LAST-MODIFIED:20180726T081530Z
UID:13262-1538208000-1538337600@turismo.comuneacqui.it
SUMMARY:CHOCO ACQUI
DESCRIPTION:Choco Acqui – La grande festa del cioccolato artigianale.\nUna grande kermesse del cioccolato interamente dedicata ai prodotti dell’eccellenza artigianale\, che mette in mostra le peculiarità delle produzioni che si realizzano con le infinite declinazioni del cioccolato con espositori\, artigiani e maestri cioccolatieri provenienti da ogni parte d’Italia. \n  \nE’ in arrivo ad Acqui Terme CHOCO-ACQUI nei giorni di Sabato 29 Settembre e Domenica 30 Settembre 2018 in Piazza Italia e Corso Bagni per un dolce fine settimana dedicato al cioccolato artigianale. \nUn evento realizzato da ChocoMoments Srl e Comune di Acqui Terme (AL). \nDegustazioni\, Cooking show\, Lezioni per adulti e Laboratori per bambini sono solo alcune delle sorprese previste nell’evento più goloso dell’anno.  \nIn Piazza Italia è tutto pronto per la grande mostra mercato del cioccolato con stand sempre aperti Sabato dalle ore 10 alle ore 23 —> mentre Domenica dalle ore 10.00 alle ore 20.00. \nSarà possibile scoprire il ricco assortimento di gustose praline\, tavolette al latte\, fondenti e aromatizzate\, creme spalmabili\, liquori al cioccolato\, le deliziose sacher\, le intramontabili fragole con panna e cioccolato caldo. \nInoltre per gli amanti del “cibo degli Dei”\,  ci saranno le sculture di cioccolato e tante piccole raffinate creazioni …ma tutte da gustare. \nTra le attrazioni di Choco-Acqui torna a grande richiesta la Fabbrica del Cioccolato\, la grande struttura che mostra in presa diretta tutte le fasi di lavorazione del cioccolato con il percorso di conoscenza Choco Word Educational. \nhttp://www.chocomoments.it/\n \nQuesto contenuto è disponibile in:
URL:https://turismo.comuneacqui.it/event/choco-acqui/
LOCATION:Piazza Italia
CATEGORIES:Wine & Food
ATTACH;FMTTYPE=:
GEO:44,6749624;8,469799
END:VEVENT
END:VCALENDAR