
BEGIN:VCALENDAR
VERSION:2.0
PRODID:-//VISIT ACQUI TERME - ECPv5.12.3//NONSGML v1.0//EN
CALSCALE:GREGORIAN
METHOD:PUBLISH
X-WR-CALNAME:VISIT ACQUI TERME
X-ORIGINAL-URL:https://turismo.comuneacqui.it
X-WR-CALDESC:Eventi per VISIT ACQUI TERME
BEGIN:VTIMEZONE
TZID:UTC
BEGIN:STANDARD
TZOFFSETFROM:+0000
TZOFFSETTO:+0000
TZNAME:UTC
DTSTART:20180101T000000
END:STANDARD
END:VTIMEZONE
BEGIN:VEVENT
DTSTART;TZID=UTC:20180412T093000
DTEND;TZID=UTC:20180412T123000
DTSTAMP:20260421T110915
CREATED:20180316T100253Z
LAST-MODIFIED:20180316T100253Z
UID:10097-1523525400-1523536200@turismo.comuneacqui.it
SUMMARY:Convegno "CHE FARE DELL'AILANTO"
DESCRIPTION:Convegno riguardante problemi generati dell’ailanto. La genesi\,  mappatura delle zone\, interventi per limitarne la proliferazione. \nRelatori:\n\nDott. Matteo Massara (Gruppo di Lavoro specie esotiche – Regione Piemonte)\nProf. Francesco Vidotto (Facoltà di Agraria – UNITO)\nProf.ssa Daniela Bouvet (Dipartimento di Scienze della vita e biologia dei sistemi – UNITO)\n\nIn collaborazione con l’Associazione Amici Musei Acquesi. \n  \n   \nQuesto contenuto è disponibile in:
URL:https://turismo.comuneacqui.it/event/che-fare-dellailanto/
LOCATION:Sala convegni ex Kaimano\, Via M. Ferraris\,5\, Acqui Terme\, Alessandria\, 15011\, Italy
CATEGORIES:Conferenze,Mostre & Presentazioni Libri
ATTACH;FMTTYPE=:
GEO:44,6775312;8,4668088
X-APPLE-STRUCTURED-LOCATION;VALUE=URI;X-ADDRESS=Sala convegni ex Kaimano Via M. Ferraris5 Acqui Terme Alessandria 15011 Italy;X-APPLE-RADIUS=500;X-TITLE=Via M. Ferraris\,5:geo:8,4668088,44,6775312
END:VEVENT
END:VCALENDAR