
BEGIN:VCALENDAR
VERSION:2.0
PRODID:-//VISIT ACQUI TERME - ECPv5.12.3//NONSGML v1.0//EN
CALSCALE:GREGORIAN
METHOD:PUBLISH
X-WR-CALNAME:VISIT ACQUI TERME
X-ORIGINAL-URL:https://turismo.comuneacqui.it/?lang=en
X-WR-CALDESC:Events for VISIT ACQUI TERME
BEGIN:VTIMEZONE
TZID:UTC
BEGIN:STANDARD
TZOFFSETFROM:+0000
TZOFFSETTO:+0000
TZNAME:UTC
DTSTART:20250101T000000
END:STANDARD
END:VTIMEZONE
BEGIN:VEVENT
DTSTART;TZID=UTC:20251207T170000
DTEND;TZID=UTC:20251207T190000
DTSTAMP:20260422T001031
CREATED:20251204T092907Z
LAST-MODIFIED:20251204T094216Z
UID:59228-1765126800-1765134000@turismo.comuneacqui.it
SUMMARY:CERIMONIA DI PREMIAZIONE L'ORO DELLA BOLLENTE
DESCRIPTION:Terza Edizione del Premio Letterario Nazionale sulla tradizione storica e gastronomica Italiana. Prenotazione consigliata fino ad esaurimento posti – info@orodellabollente.it / Tel. 0144 770292 INGRESSO LIBERO  \n\n\n\n\n\n\n\n\nQuesto contenuto è disponibile in:
URL:https://turismo.comuneacqui.it/event/cerimonia-di-premiazione-loro-della-bollente-2/?lang=en
LOCATION:Sala Convegni Ex Kaimano\, Via M. Ferraris\, Acqui Terme\, 15011\, Italy
CATEGORIES:Cerimonia premiazione,incontro letterario
ATTACH;FMTTYPE=image/jpeg:https://turismo.comuneacqui.it/wp-content/uploads/2025/12/Invito_newsletter.jpg
GEO:44,6782443;8,465869
X-APPLE-STRUCTURED-LOCATION;VALUE=URI;X-ADDRESS=Sala Convegni Ex Kaimano Via M. Ferraris Acqui Terme 15011 Italy;X-APPLE-RADIUS=500;X-TITLE=Via M. Ferraris:geo:8,465869,44,6782443
END:VEVENT
END:VCALENDAR