
BEGIN:VCALENDAR
VERSION:2.0
PRODID:-//VISIT ACQUI TERME - ECPv5.12.3//NONSGML v1.0//EN
CALSCALE:GREGORIAN
METHOD:PUBLISH
X-WR-CALNAME:VISIT ACQUI TERME
X-ORIGINAL-URL:https://turismo.comuneacqui.it/?lang=en
X-WR-CALDESC:Events for VISIT ACQUI TERME
BEGIN:VTIMEZONE
TZID:UTC
BEGIN:STANDARD
TZOFFSETFROM:+0000
TZOFFSETTO:+0000
TZNAME:UTC
DTSTART:20210101T000000
END:STANDARD
END:VTIMEZONE
BEGIN:VEVENT
DTSTART;TZID=UTC:20210718T163000
DTEND;TZID=UTC:20210718T193000
DTSTAMP:20260421T111418
CREATED:20210710T133056Z
LAST-MODIFIED:20210711T083349Z
UID:40319-1626625800-1626636600@turismo.comuneacqui.it
SUMMARY:CASTELLI APERTI ESTATE 2021
DESCRIPTION:Ogni domenica estiva dal 4 luglio al 12 settembre \nVisite guidate incluse nell’ingresso al museo. Visite a partire dalle 16.30\, con ultimo giro alle ore 18.45 \nin data: \n4-11-18 e 25 luglio \n1- 8 – 15- 22 e 29 agosto \n5 – 12 settembre \nVisite a cura dell’Istituto Internazionale di Studi Liguri – Sezione Statiella.  Info tel. 0144 57555 \nQuesto contenuto è disponibile in:
URL:https://turismo.comuneacqui.it/event/castelli-aperti-estate-2021-2/?lang=en
LOCATION:Museo Archeologico\, Via Morelli\, Acqui Terme
CATEGORIES:Visite Guidate
ATTACH;FMTTYPE=image/jpeg:https://turismo.comuneacqui.it/wp-content/uploads/2021/07/LOCANDINA-CASTELLI-APERTI-MUSEO-ACQUI-2021-scaled.jpg
ORGANIZER;CN="Comune":MAILTO:urp@comune.acquiterme.al.it
GEO:44,6742907;8,4723274
X-APPLE-STRUCTURED-LOCATION;VALUE=URI;X-ADDRESS=Museo Archeologico Via Morelli Acqui Terme;X-APPLE-RADIUS=500;X-TITLE=Via Morelli:geo:8,4723274,44,6742907
END:VEVENT
END:VCALENDAR