
BEGIN:VCALENDAR
VERSION:2.0
PRODID:-//VISIT ACQUI TERME - ECPv5.12.3//NONSGML v1.0//EN
CALSCALE:GREGORIAN
METHOD:PUBLISH
X-WR-CALNAME:VISIT ACQUI TERME
X-ORIGINAL-URL:https://turismo.comuneacqui.it
X-WR-CALDESC:Eventi per VISIT ACQUI TERME
BEGIN:VTIMEZONE
TZID:UTC
BEGIN:STANDARD
TZOFFSETFROM:+0000
TZOFFSETTO:+0000
TZNAME:UTC
DTSTART:20230101T000000
END:STANDARD
END:VTIMEZONE
BEGIN:VEVENT
DTSTART;TZID=UTC:20230702T163000
DTEND;TZID=UTC:20230702T193000
DTSTAMP:20260421T111620
CREATED:20230701T084141Z
LAST-MODIFIED:20230701T161535Z
UID:46777-1688315400-1688326200@turismo.comuneacqui.it
SUMMARY:CASTELLI APERTI ESTATE 2023
DESCRIPTION:Da Domenica 2 luglio riprenderanno le visite guidate al Museo Archeologico a partire dalle 16.30\, ultima visita alle 18.00 \nVisite guidate incluse nel biglietto d’ingresso al museo. \nVisite a cura dell’Istituto Internazionale di Studi Liguri – Sezione Statiella. \nPer maggior informazioni tel. Museo 0144 57555 \nQuesto contenuto è disponibile in:
URL:https://turismo.comuneacqui.it/event/castelli-aperti-castello-dei-paleologiogico/2023-07-02/
LOCATION:Castello dei Paleologi\, via Morelli
CATEGORIES:Visite Guidate
ATTACH;FMTTYPE=image/jpeg:https://turismo.comuneacqui.it/wp-content/uploads/2023/07/CASTELLI-APERTI-2023.jpg
GEO:36,0812751;-114,973417
X-APPLE-STRUCTURED-LOCATION;VALUE=URI;X-ADDRESS=Castello dei Paleologi via Morelli;X-APPLE-RADIUS=500;X-TITLE=via Morelli:geo:-114,973417,36,0812751
END:VEVENT
END:VCALENDAR