
BEGIN:VCALENDAR
VERSION:2.0
PRODID:-//VISIT ACQUI TERME - ECPv5.12.3//NONSGML v1.0//EN
CALSCALE:GREGORIAN
METHOD:PUBLISH
X-WR-CALNAME:VISIT ACQUI TERME
X-ORIGINAL-URL:https://turismo.comuneacqui.it
X-WR-CALDESC:Eventi per VISIT ACQUI TERME
BEGIN:VTIMEZONE
TZID:UTC
BEGIN:STANDARD
TZOFFSETFROM:+0000
TZOFFSETTO:+0000
TZNAME:UTC
DTSTART:20240101T000000
END:STANDARD
END:VTIMEZONE
BEGIN:VEVENT
DTSTART;TZID=UTC:20241012T153000
DTEND;TZID=UTC:20241012T180000
DTSTAMP:20260421T104746
CREATED:20241001T141210Z
LAST-MODIFIED:20241001T141316Z
UID:52916-1728747000-1728756000@turismo.comuneacqui.it
SUMMARY:CAFF&LIBRO JUNIOR
DESCRIPTION:Caff&Libro Junior – Raccontami una favola… Bimbe e bimbi\, genitori\, nonni\, zii\, amici o conoscenti\, unitevi nella nuova storia! La serie di incontri Caff&Libro Junior ha lo scopo di unire genitori e figli nella scoperta del mondo magico dei bambini e di stimolare riflessioni sugli insegnamenti delle favole. \n\n\n\n\n\n\n\n\nQuesto contenuto è disponibile in:
URL:https://turismo.comuneacqui.it/event/cafflibro-junior-2/
LOCATION:Palazzo Robellini\, Piazza Levi\, Acqui Terme\, 15011\, Italy
CATEGORIES:Gioco e divertimento,incontro letterario
ATTACH;FMTTYPE=image/jpeg:https://turismo.comuneacqui.it/wp-content/uploads/2024/10/Caffelibro_12-10.jpg
GEO:44,676318;8,4699349
X-APPLE-STRUCTURED-LOCATION;VALUE=URI;X-ADDRESS=Palazzo Robellini Piazza Levi Acqui Terme 15011 Italy;X-APPLE-RADIUS=500;X-TITLE=Piazza Levi:geo:8,4699349,44,676318
END:VEVENT
END:VCALENDAR