
BEGIN:VCALENDAR
VERSION:2.0
PRODID:-//VISIT ACQUI TERME - ECPv5.12.3//NONSGML v1.0//EN
CALSCALE:GREGORIAN
METHOD:PUBLISH
X-WR-CALNAME:VISIT ACQUI TERME
X-ORIGINAL-URL:https://turismo.comuneacqui.it
X-WR-CALDESC:Eventi per VISIT ACQUI TERME
BEGIN:VTIMEZONE
TZID:UTC
BEGIN:STANDARD
TZOFFSETFROM:+0000
TZOFFSETTO:+0000
TZNAME:UTC
DTSTART:20240101T000000
END:STANDARD
END:VTIMEZONE
BEGIN:VEVENT
DTSTART;TZID=UTC:20241215T060000
DTEND;TZID=UTC:20241215T200000
DTSTAMP:20260419T172933
CREATED:20241202T081422Z
LAST-MODIFIED:20241202T082836Z
UID:53853-1734242400-1734292800@turismo.comuneacqui.it
SUMMARY:"BUS DELLA NEVE 2024/2025"
DESCRIPTION:Lo “Ski Club Acqui Terme A.S.D.” organizza il Bus della Neve a partire da domenica 15 dicembre con quindici appuntamenti che termineranno domenica 23 marzo. Primo appuntamento domenica 15 dicembre con destinazione Monterosa Ski. \n\nPrezzo  tutto incluso €65 che comprende: trasposto – skipass – assicurazione – colazione)\nTermine iscrizioni 11 dicembre\nPartenza da Acqui Terme ore 6.00\nPartenza da Nizza Monferrato ore 6.30\nPunti di iscrizione: Acqui Terme: Jonathan Sport/Tuttosport – Nizza Monferrato: Binco Sport\n\nContatti:  skiclubacquiterme@gmail.com Stefano: 340 5681525 Elisa: 388 1880447 \n\n\n\n\n\n\n\n\nQuesto contenuto è disponibile in:
URL:https://turismo.comuneacqui.it/event/bus-della-neve-2024/
CATEGORIES:Sport
ATTACH;FMTTYPE=image/jpeg:https://turismo.comuneacqui.it/wp-content/uploads/2024/12/dicembre-2024-001.jpg
END:VEVENT
END:VCALENDAR