
BEGIN:VCALENDAR
VERSION:2.0
PRODID:-//VISIT ACQUI TERME - ECPv5.12.3//NONSGML v1.0//EN
CALSCALE:GREGORIAN
METHOD:PUBLISH
X-WR-CALNAME:VISIT ACQUI TERME
X-ORIGINAL-URL:https://turismo.comuneacqui.it
X-WR-CALDESC:Eventi per VISIT ACQUI TERME
BEGIN:VTIMEZONE
TZID:UTC
BEGIN:STANDARD
TZOFFSETFROM:+0000
TZOFFSETTO:+0000
TZNAME:UTC
DTSTART:20230101T000000
END:STANDARD
END:VTIMEZONE
BEGIN:VEVENT
DTSTART;TZID=UTC:20231124T180000
DTEND;TZID=UTC:20231124T200000
DTSTAMP:20260421T125339
CREATED:20231122T153621Z
LAST-MODIFIED:20231122T153723Z
UID:48312-1700848800-1700856000@turismo.comuneacqui.it
SUMMARY:BIENNALE INTERNAZIONALE PER L'INCISIONE DI ACQUI TERME
DESCRIPTION:DI SEGNO IN SEGNO – RIFLESSIONI SUI LINGUAGGI DELLA GRAFICA \nAlle ore 18:00 presso Palazzo Robellini – Piazza Abramo Levi 7 – Acqui Terme \n\n\n\n\n\n\n\n\nQuesto contenuto è disponibile in:
URL:https://turismo.comuneacqui.it/event/biennale-internazionale-per-lincisione-di-acqui-terme/
LOCATION:Palazzo Robellini\, Piazza Levi\, Acqui Terme\, 15011\, Italy
CATEGORIES:Arte e Cultura
ATTACH;FMTTYPE=image/jpeg:https://turismo.comuneacqui.it/wp-content/uploads/2023/11/BIENNALE-PER-LINCISIONE-NOVEMBRE-2023.jpg
GEO:44,676318;8,4699349
X-APPLE-STRUCTURED-LOCATION;VALUE=URI;X-ADDRESS=Palazzo Robellini Piazza Levi Acqui Terme 15011 Italy;X-APPLE-RADIUS=500;X-TITLE=Piazza Levi:geo:8,4699349,44,676318
END:VEVENT
END:VCALENDAR