
BEGIN:VCALENDAR
VERSION:2.0
PRODID:-//VISIT ACQUI TERME - ECPv5.12.3//NONSGML v1.0//EN
CALSCALE:GREGORIAN
METHOD:PUBLISH
X-WR-CALNAME:VISIT ACQUI TERME
X-ORIGINAL-URL:https://turismo.comuneacqui.it
X-WR-CALDESC:Eventi per VISIT ACQUI TERME
BEGIN:VTIMEZONE
TZID:UTC
BEGIN:STANDARD
TZOFFSETFROM:+0000
TZOFFSETTO:+0000
TZNAME:UTC
DTSTART:20240101T000000
END:STANDARD
END:VTIMEZONE
BEGIN:VEVENT
DTSTART;TZID=UTC:20240505T090000
DTEND;TZID=UTC:20240505T160000
DTSTAMP:20260421T111541
CREATED:20240502T074218Z
LAST-MODIFIED:20240502T074307Z
UID:50202-1714899600-1714924800@turismo.comuneacqui.it
SUMMARY:ASPETTANDO IL GIRO - PEDALANDO TRA LE VIGNE IN ROSA
DESCRIPTION:La Pedalata si terrà in occasione del Giro d’Italia a cura della asd Bike is Life\, con percorso ad anello in e bike\, strada\, mtb\, di circa 25 km. Durante il percorso si avrà la possibilità di fare una o più degustazioni ad un prezzo calmierato di 10 Euro. Ritrovo ore: 9.30 parcheggio ex Caserma Partenza ore: 10.00 Piazza Bollente\, Acqui Terme. L’iniziativa comprende: \n\nassistenza personalizzata\nristoro\, assicurazione\nguida cicloturistica FCI\n\nInfo: 331 4773916 – eventi@pedaliamoitalia.org www.pedaliamoitalia.org  \n\n\n\n\n\n\n\n\nQuesto contenuto è disponibile in:
URL:https://turismo.comuneacqui.it/event/aspettando-il-giro-pedalando-tra-le-vigne-in-rosa/
LOCATION:Piazza Bollente\, Piazza della Bollente\, Acqui Terme\, Alessandria\, 15011
CATEGORIES:Sport,Wine & Food
ATTACH;FMTTYPE=image/jpeg:https://turismo.comuneacqui.it/wp-content/uploads/2024/05/A5-unesco-utima-versione-flyer-scaled.jpg
END:VEVENT
END:VCALENDAR