
BEGIN:VCALENDAR
VERSION:2.0
PRODID:-//VISIT ACQUI TERME - ECPv5.12.3//NONSGML v1.0//EN
CALSCALE:GREGORIAN
METHOD:PUBLISH
X-WR-CALNAME:VISIT ACQUI TERME
X-ORIGINAL-URL:https://turismo.comuneacqui.it/?lang=en
X-WR-CALDESC:Events for VISIT ACQUI TERME
BEGIN:VTIMEZONE
TZID:UTC
BEGIN:STANDARD
TZOFFSETFROM:+0000
TZOFFSETTO:+0000
TZNAME:UTC
DTSTART:20190101T000000
END:STANDARD
END:VTIMEZONE
BEGIN:VEVENT
DTSTART;TZID=UTC:20190718T210000
DTEND;TZID=UTC:20190718T233000
DTSTAMP:20260421T214049
CREATED:20190527T062924Z
LAST-MODIFIED:20190706T110855Z
UID:16722-1563483600-1563492600@turismo.comuneacqui.it
SUMMARY:ARTURO presenta BRACHETTI
DESCRIPTION:Prequel del FESTIVAL ATTRAVERSO: una grande performance di e con ARTURO BRACHETTI \nL’uomo dai mille volti\, che in un battito di ciglia (o forse due) è capace di trasformarsi in mille personaggi\, si racconta in un serata speciale fatta di confidenze\, ricordi e viaggi fantastici. Fregoli\, Parigi e le luci della Tour Eiffel\, Ugo Tognazzi\, le ombre cinesi\, la macchina da cucire della mamma\, il Paradis Latin e le mille fantasie di un ragazza che voleva diventare regista o papa\, prendono vita in un’intervista frizzante tra vita privata e palcoscenico. \nIngresso Posto unico a sedere non numerato: 12 euro + diritti prevendita\n\nPrevendite disponibili presso i circuiti di vendita di www.ticketone.it e www.mailticket.it\nMailticket: http://bit.ly/ARTURO_BRACHETTI_Prevendita_Mailticket\nTicketone: http://bit.ly/ARTURO_BRACHETTI_Prevendita_Ticketone\noppure:\nDirettamente ad Acqui Terme c/o Ufficio IAT – Informazione ed Accoglienza Turistica\nPalazzo Robellini\, Piazza A. Levi 5\nTel. 0144 322142 –  Euro 12 \nhttp://www.attraversofestival.it/eventi/arturo-brachetti/ \n  \n  \nQuesto contenuto è disponibile in:
URL:https://turismo.comuneacqui.it/event/arturo-presenta-brachetti/?lang=en
LOCATION:Teatro Verdi\, Piazza Conciliazione\, Acqui Terme\, 15011\, Italy
CATEGORIES:Teatro
ATTACH;FMTTYPE=image/jpeg:https://turismo.comuneacqui.it/wp-content/uploads/2019/05/brachetti2019.jpg
ORGANIZER;CN="Ufficio%20Turismo":MAILTO:turismo@comuneacqui.com
GEO:44,6750372;8,4724875
X-APPLE-STRUCTURED-LOCATION;VALUE=URI;X-ADDRESS=Teatro Verdi Piazza Conciliazione Acqui Terme 15011 Italy;X-APPLE-RADIUS=500;X-TITLE=Piazza Conciliazione:geo:8,4724875,44,6750372
END:VEVENT
END:VCALENDAR