
BEGIN:VCALENDAR
VERSION:2.0
PRODID:-//VISIT ACQUI TERME - ECPv5.12.3//NONSGML v1.0//EN
CALSCALE:GREGORIAN
METHOD:PUBLISH
X-WR-CALNAME:VISIT ACQUI TERME
X-ORIGINAL-URL:https://turismo.comuneacqui.it/?lang=en
X-WR-CALDESC:Events for VISIT ACQUI TERME
BEGIN:VTIMEZONE
TZID:UTC
BEGIN:STANDARD
TZOFFSETFROM:+0000
TZOFFSETTO:+0000
TZNAME:UTC
DTSTART:20260101T000000
END:STANDARD
END:VTIMEZONE
BEGIN:VEVENT
DTSTART;TZID=UTC:20260501T100000
DTEND;TZID=UTC:20260501T190000
DTSTAMP:20260424T012423
CREATED:20260423T095829Z
LAST-MODIFIED:20260423T100613Z
UID:60985-1777629600-1777662000@turismo.comuneacqui.it
SUMMARY:APERTURA STRAORDINDARIA DEL CASTELLO DEI PALEOLOGI E CIVICO MUSEO ARCHEOLOGICO
DESCRIPTION:In occasione delle Festività del 1 MAGGIO il CASTELLO DEI PALEOLOGI E CIVICO MUSEO ARCHEOLOGICO resteranno aperti con il consueto orario di apertura dalle 10.00-13.00 e 15.00-19.00.  Sarà inoltre possibile visitare la MOSTRA “MEMORIE DA AQUAE STATIELLAE” e il giardino “BIRDGARDEN. VISITA LIBERA E AUTONOMA.  INGRESSO MUSEO ADULTI €4\,00 – RAGAZZI DAI 6 AI 18 ANNI € 2\,00 \n\n\n\n\n\n\n\n\nQuesto contenuto è disponibile in:
URL:https://turismo.comuneacqui.it/event/apertura-straordindaria-del-castello-dei-paleologi-e-civico-museo-archeologico/?lang=en
LOCATION:Castello dei Paleologi\, via Morelli
CATEGORIES:Arte e Cultura
ATTACH;FMTTYPE=image/jpeg:https://turismo.comuneacqui.it/wp-content/uploads/2026/04/BELLA-FOTO-GIARDINO-BOTANICO-DEL-CASTELLO.jpg
GEO:36,0812751;-114,973417
X-APPLE-STRUCTURED-LOCATION;VALUE=URI;X-ADDRESS=Castello dei Paleologi via Morelli;X-APPLE-RADIUS=500;X-TITLE=via Morelli:geo:-114,973417,36,0812751
END:VEVENT
END:VCALENDAR