
BEGIN:VCALENDAR
VERSION:2.0
PRODID:-//VISIT ACQUI TERME - ECPv5.12.3//NONSGML v1.0//EN
CALSCALE:GREGORIAN
METHOD:PUBLISH
X-WR-CALNAME:VISIT ACQUI TERME
X-ORIGINAL-URL:https://turismo.comuneacqui.it
X-WR-CALDESC:Eventi per VISIT ACQUI TERME
BEGIN:VTIMEZONE
TZID:UTC
BEGIN:STANDARD
TZOFFSETFROM:+0000
TZOFFSETTO:+0000
TZNAME:UTC
DTSTART:20190101T000000
END:STANDARD
END:VTIMEZONE
BEGIN:VEVENT
DTSTART;TZID=UTC:20190421T153000
DTEND;TZID=UTC:20190422T173000
DTSTAMP:20260421T111833
CREATED:20190330T140057Z
LAST-MODIFIED:20190330T140057Z
UID:15840-1555860600-1555954200@turismo.comuneacqui.it
SUMMARY:TOUR DI PASQUETTA e Apertura straordinaria del Castello dei Paleologi e Museo Archeologico
DESCRIPTION:Apertura straordinaria del Museo Archeologico – Castello dei Paleologi e giardino botanico in occasione della domenica di Pasqua e Lunedì di Pasquetta \nPasqua aperto dalle ore 15.30 alle 17.30 \nPasquetta aperto dalle ore 15.30 alle 18.30 \nTOUR DI PASQUETTA – visita guidata alle 15.30 al Museo Archeologico\, giardino botanico\, il borgo Pisterna\, la Cattedrale di Santa Maria Assunta\, la Bollente e i monumenti principali del centro storico.  A seguire passeggiata nella zona “Bagni” per ammirare i resti dell’antico acquedotto romano.\n \nLa visita guidata è gratuita previo pagamento del biglietto d’ingresso al Museo Archeologico  \nIntero € 4\,00 ( da 18 a 65 anni) e ridotto € 2\,00 ( da 6 a 18 anni d’età) \nPer informazioni tel. Museo 0144 57555 oppure ufficio Cultura 0144 770272 \n  \n \nQuesto contenuto è disponibile in:
URL:https://turismo.comuneacqui.it/event/apertura-straordinaria-del-castello-dei-paleologi-e-museo-archeologico-4/
LOCATION:Castello dei Paleologi\, via Morelli\, Acqui Terme\, AL\, 15010
CATEGORIES:Cultura & Cinema
ATTACH;FMTTYPE=:
GEO:44,6439737;8,4239894
X-APPLE-STRUCTURED-LOCATION;VALUE=URI;X-ADDRESS=Castello dei Paleologi via Morelli Acqui Terme AL 15010;X-APPLE-RADIUS=500;X-TITLE=via Morelli:geo:8,4239894,44,6439737
END:VEVENT
END:VCALENDAR