
BEGIN:VCALENDAR
VERSION:2.0
PRODID:-//VISIT ACQUI TERME - ECPv5.12.3//NONSGML v1.0//EN
CALSCALE:GREGORIAN
METHOD:PUBLISH
X-WR-CALNAME:VISIT ACQUI TERME
X-ORIGINAL-URL:https://turismo.comuneacqui.it/?lang=en
X-WR-CALDESC:Events for VISIT ACQUI TERME
BEGIN:VTIMEZONE
TZID:UTC
BEGIN:STANDARD
TZOFFSETFROM:+0000
TZOFFSETTO:+0000
TZNAME:UTC
DTSTART:20250101T000000
END:STANDARD
END:VTIMEZONE
BEGIN:VEVENT
DTSTART;TZID=UTC:20251208T110000
DTEND;TZID=UTC:20251208T173000
DTSTAMP:20260421T220658
CREATED:20251204T111450Z
LAST-MODIFIED:20251204T144157Z
UID:59238-1765191600-1765215000@turismo.comuneacqui.it
SUMMARY:APERTURA STRAORDINARIA DEL CASTELLO DEI PALEOLOGI E IL MUSEO ARCHEOLOGICO
DESCRIPTION:In occasione della Festività dell’Immacolata Concezione dell’8 dicembre il Castello dei Paleologi e il Civico Museo Archeologico saranno aperti dalle 11.00-13.30 e dalle 15.30-17.30. \nPer ulteriori informazioni tel. Museo 0144 57555   \nPer tutti gli appuntamenti in programma l’8 dicembre visitare il sito dedicato al Natale https://sites.google.com/view/nataleacquiterme \n\n\n\n\n\n\n\n\nQuesto contenuto è disponibile in:
URL:https://turismo.comuneacqui.it/event/apertura-straordinaria-del-castello-dei-paleologi-e-il-museo-archeologico-2/?lang=en
LOCATION:Museo Archeologico\, Via Morelli\, Acqui Terme
CATEGORIES:Arte e Cultura
ATTACH;FMTTYPE=image/jpeg:https://turismo.comuneacqui.it/wp-content/uploads/2025/12/CASTELLO-ESTERNO.jpg
GEO:44,6742907;8,4723274
X-APPLE-STRUCTURED-LOCATION;VALUE=URI;X-ADDRESS=Museo Archeologico Via Morelli Acqui Terme;X-APPLE-RADIUS=500;X-TITLE=Via Morelli:geo:8,4723274,44,6742907
END:VEVENT
END:VCALENDAR