
BEGIN:VCALENDAR
VERSION:2.0
PRODID:-//VISIT ACQUI TERME - ECPv5.12.3//NONSGML v1.0//EN
CALSCALE:GREGORIAN
METHOD:PUBLISH
X-WR-CALNAME:VISIT ACQUI TERME
X-ORIGINAL-URL:https://turismo.comuneacqui.it
X-WR-CALDESC:Eventi per VISIT ACQUI TERME
BEGIN:VTIMEZONE
TZID:UTC
BEGIN:STANDARD
TZOFFSETFROM:+0000
TZOFFSETTO:+0000
TZNAME:UTC
DTSTART:20240101T000000
END:STANDARD
END:VTIMEZONE
BEGIN:VEVENT
DTSTART;TZID=UTC:20240331T150000
DTEND;TZID=UTC:20240401T190000
DTSTAMP:20260422T214142
CREATED:20240327T091556Z
LAST-MODIFIED:20240327T091656Z
UID:49572-1711897200-1711998000@turismo.comuneacqui.it
SUMMARY:APERTURA STRAORDINARIA DEL CASTELLO DEI PALEOLOGI E CIVICO MUSEO ARCHEOLOGICO
DESCRIPTION:In occasione delle Festività di Pasqua e Pasquetta\, il Castello dei Paleologi\, il Civico Museo Archeologico e il Giardino Botanico saranno visitabili dalle 15:00 alle 19:00 Per informazioni tel. Museo 0144 57555 www.acquimusei.it \n\n\n\n\n\n\n\n\nQuesto contenuto è disponibile in:
URL:https://turismo.comuneacqui.it/event/apertura-straordinaria-del-castello-dei-paleologi-e-civico-museo-archeologico/
LOCATION:Castello dei Paleologi\, via Morelli
ATTACH;FMTTYPE=image/jpeg:https://turismo.comuneacqui.it/wp-content/uploads/2024/03/BELLA-FOTO-GIARDINO-BOTANICO-DEL-CASTELLO.jpg
GEO:36,0812751;-114,973417
X-APPLE-STRUCTURED-LOCATION;VALUE=URI;X-ADDRESS=Castello dei Paleologi via Morelli;X-APPLE-RADIUS=500;X-TITLE=via Morelli:geo:-114,973417,36,0812751
END:VEVENT
END:VCALENDAR