
BEGIN:VCALENDAR
VERSION:2.0
PRODID:-//VISIT ACQUI TERME - ECPv5.12.3//NONSGML v1.0//EN
CALSCALE:GREGORIAN
METHOD:PUBLISH
X-WR-CALNAME:VISIT ACQUI TERME
X-ORIGINAL-URL:https://turismo.comuneacqui.it
X-WR-CALDESC:Eventi per VISIT ACQUI TERME
BEGIN:VTIMEZONE
TZID:UTC
BEGIN:STANDARD
TZOFFSETFROM:+0000
TZOFFSETTO:+0000
TZNAME:UTC
DTSTART:20250101T000000
END:STANDARD
END:VTIMEZONE
BEGIN:VEVENT
DTSTART;TZID=UTC:20250922T210000
DTEND;TZID=UTC:20250922T230000
DTSTAMP:20260421T143227
CREATED:20250919T075653Z
LAST-MODIFIED:20250919T080718Z
UID:58146-1758574800-1758582000@turismo.comuneacqui.it
SUMMARY:Alzek Misheff - "VOLARE CON LE PINNE"
DESCRIPTION:Film documento sulla sua vita. \nAlle ore 21.00 presso la sala ex-Kaimano\, via Maggiorino Ferraris.  INGRESSO LIBERO E GRATUITO \n\n\n\n\n\n\n\n\nQuesto contenuto è disponibile in:
URL:https://turismo.comuneacqui.it/event/alzek-misheff-volare-con-le-pinne/
LOCATION:Sala Convegni Ex Kaimano\, Via M. Ferraris\, Acqui Terme\, 15011\, Italy
CATEGORIES:Arte e Cultura
ATTACH;FMTTYPE=image/jpeg:https://turismo.comuneacqui.it/wp-content/uploads/2025/09/Locandina-A3_Volare-con-le-pinne.jpg
GEO:44,6782443;8,465869
X-APPLE-STRUCTURED-LOCATION;VALUE=URI;X-ADDRESS=Sala Convegni Ex Kaimano Via M. Ferraris Acqui Terme 15011 Italy;X-APPLE-RADIUS=500;X-TITLE=Via M. Ferraris:geo:8,465869,44,6782443
END:VEVENT
END:VCALENDAR