
BEGIN:VCALENDAR
VERSION:2.0
PRODID:-//VISIT ACQUI TERME - ECPv5.12.3//NONSGML v1.0//EN
CALSCALE:GREGORIAN
METHOD:PUBLISH
X-WR-CALNAME:VISIT ACQUI TERME
X-ORIGINAL-URL:https://turismo.comuneacqui.it
X-WR-CALDESC:Eventi per VISIT ACQUI TERME
BEGIN:VTIMEZONE
TZID:UTC
BEGIN:STANDARD
TZOFFSETFROM:+0000
TZOFFSETTO:+0000
TZNAME:UTC
DTSTART:20200101T000000
END:STANDARD
END:VTIMEZONE
BEGIN:VEVENT
DTSTART;TZID=UTC:20200316T210000
DTEND;TZID=UTC:20200316T230000
DTSTAMP:20260421T135813
CREATED:20191204T112905Z
LAST-MODIFIED:20200309T103708Z
UID:34296-1584392400-1584399600@turismo.comuneacqui.it
SUMMARY:ACQUI TEATRO
DESCRIPTION:REGALO DI NATALE\ndal film di Pupi Avati adattamento teatrale di Sergio Pierattini\ncon Gigio Alberti\, Filippo Dini\, Giovanni Esposito\, Valerio Santoro\, Gennaro Di Biase\nRegia di Marcello Cotugno \nLa prevendita dei biglietti ai singoli spettacoli inizia il 16/12/2019 direttamente al Teatro Ariston  oppure online su www.aristonacqui.it\nPer abbonamenti ed info: Teatro Ariston\, Piazza Matteotti  16. Tel. 0144/58067\nOrganizzazione a cura di Dianorama con il patrocinio del Comune di Acqui Terme \nQuesto contenuto è disponibile in:
URL:https://turismo.comuneacqui.it/event/acqui-teatro-6/
CATEGORIES:Teatro
ATTACH;FMTTYPE=image/jpeg:https://turismo.comuneacqui.it/wp-content/uploads/2019/12/Man-Stagione-Teatro-2020.jpg
END:VEVENT
END:VCALENDAR