
BEGIN:VCALENDAR
VERSION:2.0
PRODID:-//VISIT ACQUI TERME - ECPv5.12.3//NONSGML v1.0//EN
CALSCALE:GREGORIAN
METHOD:PUBLISH
X-WR-CALNAME:VISIT ACQUI TERME
X-ORIGINAL-URL:https://turismo.comuneacqui.it/?lang=en
X-WR-CALDESC:Events for VISIT ACQUI TERME
BEGIN:VTIMEZONE
TZID:Europe/Helsinki
BEGIN:DAYLIGHT
TZOFFSETFROM:+0200
TZOFFSETTO:+0300
TZNAME:EEST
DTSTART:20190331T010000
END:DAYLIGHT
BEGIN:STANDARD
TZOFFSETFROM:+0300
TZOFFSETTO:+0200
TZNAME:EET
DTSTART:20191027T010000
END:STANDARD
END:VTIMEZONE
BEGIN:VEVENT
DTSTART;TZID=Europe/Helsinki:20190720T210000
DTEND;TZID=Europe/Helsinki:20190720T233000
DTSTAMP:20260421T160657
CREATED:20190624T125353Z
LAST-MODIFIED:20190624T125540Z
UID:27239-1563656400-1563665400@turismo.comuneacqui.it
SUMMARY:ACQUI IN PALCOSCENICO
DESCRIPTION:36° Festival Internazionale di danza ”ACQUI IN PALCOSCENICO”. Direzione Artistica LOREDANA FURNO\n\nLA LEGGENDA DEL PIANISTA SULL’OCEANO spettacolo di musica\, danza e parola \nTeatro all’aperto “G. Verdi” – spettacolo ore 21.30. DEGUSTAZIONI IN DANZA dalle ore 21 \nIngresso a pagamento: Euro 15: intero. Euro 10: ridotto. Euro 6: comitive\, over75\, ragazzi\, Abbonamento Musei Torino \n  \n  \n  \n  \nQuesto contenuto è disponibile in:
URL:https://turismo.comuneacqui.it/event/acqui-in-palcoscenico-5/?lang=en
CATEGORIES:Cultura & Cinema
ATTACH;FMTTYPE=image/png:https://turismo.comuneacqui.it/wp-content/uploads/2019/06/Cattura.png
END:VEVENT
END:VCALENDAR