
BEGIN:VCALENDAR
VERSION:2.0
PRODID:-//VISIT ACQUI TERME - ECPv5.12.3//NONSGML v1.0//EN
CALSCALE:GREGORIAN
METHOD:PUBLISH
X-WR-CALNAME:VISIT ACQUI TERME
X-ORIGINAL-URL:https://turismo.comuneacqui.it/?lang=en
X-WR-CALDESC:Events for VISIT ACQUI TERME
BEGIN:VTIMEZONE
TZID:UTC
BEGIN:STANDARD
TZOFFSETFROM:+0000
TZOFFSETTO:+0000
TZNAME:UTC
DTSTART:20230101T000000
END:STANDARD
END:VTIMEZONE
BEGIN:VEVENT
DTSTART;TZID=UTC:20230708T183000
DTEND;TZID=UTC:20230708T210000
DTSTAMP:20260424T173700
CREATED:20230627T134621Z
LAST-MODIFIED:20230629T093036Z
UID:46499-1688841000-1688850000@turismo.comuneacqui.it
SUMMARY:ACQUI IN PALCOSCENICO 2023 BEinSIDE 40esimo FESTIVAL INTERNAZIONALE DI DANZA
DESCRIPTION:Borderlinedanza SKIN con COR.D.A. Movimentoinactor IL PIU’ BEL CANTICO FRA I CANTICI presso la SALA OVALE – Palazzo dei Congressi \n  \nInfo e prenotazioni: \n011.4730189 / cell. 339.2907436 – info@ballettoteatroditorino.org \nComune Acqui Terme – ufficio Cultura 0144 770300 – cultura@comune.acquiterme.al.it \nQuesto contenuto è disponibile in:
URL:https://turismo.comuneacqui.it/event/acqui-in-palcoscenico-2023-beinside-40esimo-festival-internazionale-di-danza-3/?lang=en
LOCATION:Centro Congressi\, Viale Antiche Terme\, Acqui Terme\, Alessandria\, 15011\, Italy
CATEGORIES:Spettacolo
ATTACH;FMTTYPE=image/jpeg:https://turismo.comuneacqui.it/wp-content/uploads/2023/06/acqui-in-palcoscenico-2023-1.jpg
GEO:44,6598225;8,4694141
X-APPLE-STRUCTURED-LOCATION;VALUE=URI;X-ADDRESS=Centro Congressi Viale Antiche Terme Acqui Terme Alessandria 15011 Italy;X-APPLE-RADIUS=500;X-TITLE=Viale Antiche Terme:geo:8,4694141,44,6598225
END:VEVENT
END:VCALENDAR