
BEGIN:VCALENDAR
VERSION:2.0
PRODID:-//VISIT ACQUI TERME - ECPv5.12.3//NONSGML v1.0//EN
CALSCALE:GREGORIAN
METHOD:PUBLISH
X-WR-CALNAME:VISIT ACQUI TERME
X-ORIGINAL-URL:https://turismo.comuneacqui.it
X-WR-CALDESC:Eventi per VISIT ACQUI TERME
BEGIN:VTIMEZONE
TZID:UTC
BEGIN:STANDARD
TZOFFSETFROM:+0000
TZOFFSETTO:+0000
TZNAME:UTC
DTSTART:20220101T000000
END:STANDARD
END:VTIMEZONE
BEGIN:VEVENT
DTSTART;TZID=UTC:20220522T150000
DTEND;TZID=UTC:20220522T170000
DTSTAMP:20260421T110917
CREATED:20220405T110400Z
LAST-MODIFIED:20220405T110400Z
UID:42615-1653231600-1653238800@turismo.comuneacqui.it
SUMMARY:A SPASSO  CON .... ALICE
DESCRIPTION:A spasso con …. ALICE nel Paese delle meraviglie. \n3° edizione della camminata per tutti con giochi ed esperienze interattive. \nDalle ore 15 partenze a piccoli gruppi. Ultima partenza prevista alle ore 16.30. \nPer maggiori informazioni: Comunità MASCI Acqui Terme 348.8126407 \n  \nQuesto contenuto è disponibile in:
URL:https://turismo.comuneacqui.it/event/a-spasso-con-alice/
LOCATION:Pista ciclabile\, 56\, Str. del Greto\, Acqui Terme\, Italy
CATEGORIES:Gioco e divertimento,Sport
ATTACH;FMTTYPE=image/jpeg:https://turismo.comuneacqui.it/wp-content/uploads/2022/04/IMG-20220405-WA0000.jpg
GEO:44,6642068;8,4679624
X-APPLE-STRUCTURED-LOCATION;VALUE=URI;X-ADDRESS=Pista ciclabile 56 Str. del Greto Acqui Terme Italy;X-APPLE-RADIUS=500;X-TITLE=56\, Str. del Greto:geo:8,4679624,44,6642068
END:VEVENT
END:VCALENDAR