
BEGIN:VCALENDAR
VERSION:2.0
PRODID:-//VISIT ACQUI TERME - ECPv5.12.3//NONSGML v1.0//EN
CALSCALE:GREGORIAN
METHOD:PUBLISH
X-WR-CALNAME:VISIT ACQUI TERME
X-ORIGINAL-URL:https://turismo.comuneacqui.it/?lang=en
X-WR-CALDESC:Events for VISIT ACQUI TERME
BEGIN:VTIMEZONE
TZID:UTC
BEGIN:STANDARD
TZOFFSETFROM:+0000
TZOFFSETTO:+0000
TZNAME:UTC
DTSTART:20250101T000000
END:STANDARD
END:VTIMEZONE
BEGIN:VEVENT
DTSTART;TZID=UTC:20251226T153000
DTEND;TZID=UTC:20251226T173000
DTSTAMP:20260421T195836
CREATED:20251204T144536Z
LAST-MODIFIED:20251204T145348Z
UID:59249-1766763000-1766770200@turismo.comuneacqui.it
SUMMARY:APERTURA STRAORDINARIA DEL CASTELLO DEI PALEOLOGI E IL MUSEO ARCHEOLOGICO
DESCRIPTION:In occasione delle Festività Natalizie il Castello dei Paleologi e il Civico Museo Archeologico saranno aperti dalle 15.30-17.30. \nPer ulteriori informazioni tel. Museo 0144 57555. \nPer tutti gli appuntamenti in programma durante le Festività visitare il sito dedicato al Natale https://sites.google.com/view/nataleacquiterme \n\n\n\n\n\n\n\n\nQuesto contenuto è disponibile in:
URL:https://turismo.comuneacqui.it/event/59246/?lang=en
LOCATION:Castello dei Paleologi\, via Morelli
CATEGORIES:Arte e Cultura
ATTACH;FMTTYPE=image/jpeg:https://turismo.comuneacqui.it/wp-content/uploads/2025/12/CASTELLO-ESTERNO.jpg
GEO:36,0812751;-114,973417
X-APPLE-STRUCTURED-LOCATION;VALUE=URI;X-ADDRESS=Castello dei Paleologi via Morelli;X-APPLE-RADIUS=500;X-TITLE=via Morelli:geo:-114,973417,36,0812751
END:VEVENT
END:VCALENDAR