
BEGIN:VCALENDAR
VERSION:2.0
PRODID:-//VISIT ACQUI TERME - ECPv5.12.3//NONSGML v1.0//EN
CALSCALE:GREGORIAN
METHOD:PUBLISH
X-WR-CALNAME:VISIT ACQUI TERME
X-ORIGINAL-URL:https://turismo.comuneacqui.it
X-WR-CALDESC:Eventi per VISIT ACQUI TERME
BEGIN:VTIMEZONE
TZID:UTC
BEGIN:STANDARD
TZOFFSETFROM:+0000
TZOFFSETTO:+0000
TZNAME:UTC
DTSTART:20250101T000000
END:STANDARD
END:VTIMEZONE
BEGIN:VEVENT
DTSTART;TZID=UTC:20251221T170000
DTEND;TZID=UTC:20251221T183000
DTSTAMP:20260421T105947
CREATED:20251111T145721Z
LAST-MODIFIED:20251111T145823Z
UID:58756-1766336400-1766341800@turismo.comuneacqui.it
SUMMARY:54° CONCERTO DI NATALE " AUGURI ALLA CITTA' "
DESCRIPTION:con la CORALE CITTA’ DI ACQUI TERME “LA BUJENT E I SGAJENTA'” diretta da ROMY WIEDERKEHR. \nCanti Natalizi Internazionali  – Alle ore 17.00 presso la Chiesa di San Francesco CON INGRESSO LIBERO   \n\n\n\n\n\n\n\n\nQuesto contenuto è disponibile in:
URL:https://turismo.comuneacqui.it/event/54-concerto-di-natale-auguri-alla-citta/
LOCATION:Chiesa di San Francesco\, Corso Roma\, Acqui Terme\, 15011\, Italy
CATEGORIES:CONCERTO
ATTACH;FMTTYPE=image/jpeg:https://turismo.comuneacqui.it/wp-content/uploads/2025/11/LOCANDINA-NATALE-CONCERTO-DI-NATALE-DELLA-CORALE.jpg
END:VEVENT
END:VCALENDAR