
BEGIN:VCALENDAR
VERSION:2.0
PRODID:-//VISIT ACQUI TERME - ECPv5.12.3//NONSGML v1.0//EN
CALSCALE:GREGORIAN
METHOD:PUBLISH
X-WR-CALNAME:VISIT ACQUI TERME
X-ORIGINAL-URL:https://turismo.comuneacqui.it
X-WR-CALDESC:Eventi per VISIT ACQUI TERME
BEGIN:VTIMEZONE
TZID:UTC
BEGIN:STANDARD
TZOFFSETFROM:+0000
TZOFFSETTO:+0000
TZNAME:UTC
DTSTART:20180101T000000
END:STANDARD
END:VTIMEZONE
BEGIN:VEVENT
DTSTART;TZID=UTC:20180610T093000
DTEND;TZID=UTC:20180610T123000
DTSTAMP:20260421T180745
CREATED:20180524T054049Z
LAST-MODIFIED:20180524T054049Z
UID:12297-1528623000-1528633800@turismo.comuneacqui.it
SUMMARY:4^ CAMMINATA SENSORIALE
DESCRIPTION:Marcia non competitiva organizzata dal Gruppo M.A.S.C.I. (Movimento Adulti Scout Cattolici Italiani) di Acqui Terme \nPercorso: Acqui Terme – Cavatore – Acqui Terme \nhttps://acquiscout.weebly.com/  \nQuesto contenuto è disponibile in:
URL:https://turismo.comuneacqui.it/event/4-camminata-sensoriale/
LOCATION:Città\, Piazza Levi 1\, Acqui Terme\, Al\, 15011\, Italy
CATEGORIES:Sport
ATTACH;FMTTYPE=:
END:VEVENT
END:VCALENDAR